BEGIN:VCALENDAR
VERSION:2.0
PRODID:-//Cookies Bloomington - ECPv6.15.17.1//NONSGML v1.0//EN
CALSCALE:GREGORIAN
METHOD:PUBLISH
X-WR-CALNAME:Cookies Bloomington
X-ORIGINAL-URL:https://bloomington.cookies.co
X-WR-CALDESC:Events for Cookies Bloomington
REFRESH-INTERVAL;VALUE=DURATION:PT1H
X-Robots-Tag:noindex
X-PUBLISHED-TTL:PT1H
BEGIN:VTIMEZONE
TZID:America/Chicago
BEGIN:DAYLIGHT
TZOFFSETFROM:-0600
TZOFFSETTO:-0500
TZNAME:CDT
DTSTART:20240310T080000
END:DAYLIGHT
BEGIN:STANDARD
TZOFFSETFROM:-0500
TZOFFSETTO:-0600
TZNAME:CST
DTSTART:20241103T070000
END:STANDARD
BEGIN:DAYLIGHT
TZOFFSETFROM:-0600
TZOFFSETTO:-0500
TZNAME:CDT
DTSTART:20250309T080000
END:DAYLIGHT
BEGIN:STANDARD
TZOFFSETFROM:-0500
TZOFFSETTO:-0600
TZNAME:CST
DTSTART:20251102T070000
END:STANDARD
BEGIN:DAYLIGHT
TZOFFSETFROM:-0600
TZOFFSETTO:-0500
TZNAME:CDT
DTSTART:20260308T080000
END:DAYLIGHT
BEGIN:STANDARD
TZOFFSETFROM:-0500
TZOFFSETTO:-0600
TZNAME:CST
DTSTART:20261101T070000
END:STANDARD
END:VTIMEZONE
BEGIN:VTIMEZONE
TZID:America/New_York
BEGIN:DAYLIGHT
TZOFFSETFROM:-0500
TZOFFSETTO:-0400
TZNAME:EDT
DTSTART:20230312T070000
END:DAYLIGHT
BEGIN:STANDARD
TZOFFSETFROM:-0400
TZOFFSETTO:-0500
TZNAME:EST
DTSTART:20231105T060000
END:STANDARD
BEGIN:DAYLIGHT
TZOFFSETFROM:-0500
TZOFFSETTO:-0400
TZNAME:EDT
DTSTART:20240310T070000
END:DAYLIGHT
BEGIN:STANDARD
TZOFFSETFROM:-0400
TZOFFSETTO:-0500
TZNAME:EST
DTSTART:20241103T060000
END:STANDARD
BEGIN:DAYLIGHT
TZOFFSETFROM:-0500
TZOFFSETTO:-0400
TZNAME:EDT
DTSTART:20250309T070000
END:DAYLIGHT
BEGIN:STANDARD
TZOFFSETFROM:-0400
TZOFFSETTO:-0500
TZNAME:EST
DTSTART:20251102T060000
END:STANDARD
END:VTIMEZONE
BEGIN:VEVENT
DTSTART;TZID=America/Chicago:20250424T163000
DTEND;TZID=America/Chicago:20250424T183000
DTSTAMP:20260420T152146
CREATED:20250418T164035Z
LAST-MODIFIED:20250418T164035Z
UID:512010-1745512200-1745519400@bloomington.cookies.co
SUMMARY:Enliven Pop-Up Event at Cookies Bloomington
DESCRIPTION:🍪 POP-UP ALERT! 🍪 \n  \nThis Thursday (April 24th)\, swing by Cookies Dispensary in Bloomington for an exclusive pop-up with Enliven edibles! \n  \nGet 40% OFF all Enliven products from 4:30-6:30PM only! Don’t miss your chance to stock up on these premium cannabis-infused treats. \n  \nMeet the Enliven team\, learn about their products\, and take advantage of these incredible savings! It’s the perfect time to try something new or grab your favorites. \n  \nMark your calendars! This Thursday. At Cookies Bloomington. 40% OFF. Two hours only. See you there! 💚 \n  \nWhile supplies last. Must be 21+ to attend. 40% OFF Coupon valid on Enliven products only. 
URL:https://bloomington.cookies.co/event/enliven-pop-up-event-at-cookies-bloomington/
LOCATION:Cookies Bloomington\, 1006 Jc Pkwy\, Bloomington\, IL\, 61705\, United States
END:VEVENT
BEGIN:VEVENT
DTSTART;TZID=America/Chicago:20250419T090000
DTEND;TZID=America/Chicago:20250420T200000
DTSTAMP:20260420T152146
CREATED:20250320T221121Z
LAST-MODIFIED:20250412T175135Z
UID:511738-1745053200-1745179200@bloomington.cookies.co
SUMMARY:Cookies Bloomington - 420 Celebration
DESCRIPTION:April 19-20\, 2025 – Let’s Celebrate 420 Together! Join us at Cookies Bloomington for an unforgettable 420 weekend! Grab your buds and come enjoy our biggest discounts of the year\, exclusive free swag\, and a lineup of food trucks\, live entertainment\, and more to keep the good vibes going. Plus\, meet vendors from your favorite cannabis brands as they showcase the latest and greatest smoking products—perfect for elevating your next session\, whether you’re a seasoned smoker or just exploring. Don’t miss out on the ultimate 420 celebration—see you there! 🌿🔥
URL:https://bloomington.cookies.co/event/cookies-bloomington-420-celebration/
LOCATION:Cookies Bloomington\, 1006 Jc Pkwy\, Bloomington\, IL\, 61705\, United States
ORGANIZER;CN="Cookies Bloomington":MAILTO:info@cookiesbloomington.com
END:VEVENT
BEGIN:VEVENT
DTSTART;TZID=America/Chicago:20250418T143000
DTEND;TZID=America/Chicago:20250418T163000
DTSTAMP:20260420T152146
CREATED:20250408T172253Z
LAST-MODIFIED:20250408T172253Z
UID:511885-1744986600-1744993800@bloomington.cookies.co
SUMMARY:4Front Pop-Up Event at Cookies Bloomington
DESCRIPTION:Join us on Friday\, April 18th for an exclusive 4Front Pop-Up at Cookies Bloomington from 2:30 PM – 4:30 PM! Stop by to explore top-tier cannabis brands like: \n  \n\n🌴 Island Cannabis Co.\n🔷 Crystal Clear\n🍬 Marmas Bar\n💨 Smoke Breaks\n🌈 1988\n\n  \n🔥 Special Offer: Guests will receive a $5 off coupon for any 4Front products — available only during the pop-up! This is your chance to chat with brand reps\, snag some swag\, and enjoy exclusive promos. Don’t miss out – mark your calendar and come vibe with us! \nWhile supplies last. Must be 21+ to attend. Coupon valid on 4Front products only.
URL:https://bloomington.cookies.co/event/4front-pop-up-event-at-cookies-bloomington/
LOCATION:Cookies Bloomington\, 1006 Jc Pkwy\, Bloomington\, IL\, 61705\, United States
END:VEVENT
BEGIN:VEVENT
DTSTART;TZID=America/New_York:20240504T190000
DTEND;TZID=America/New_York:20240504T220000
DTSTAMP:20260420T152146
CREATED:20240430T200056Z
LAST-MODIFIED:20240430T200056Z
UID:496188-1714849200-1714860000@bloomington.cookies.co
SUMMARY:Cookies x Molly's Joint x Sunshine Daydream
DESCRIPTION:May 4th –  Come on out and hang out with Cookies at Molly’s Joint in Tilton\, IL for a great night of Greatful Dead music by Sunshine Daydream from 7pm-10pm! Tickets are $10 and can be purchased at eventhi.io. Cookies will be raffling off some cool swag\, so make sure you get your tickets and get ready to enjoy a fantastic night of Greatful Dead music.
URL:https://bloomington.cookies.co/event/cookies-x-mollys-joint-x-sunshine-daydream/
LOCATION:Molly’s Joint\, 2 Donna Drive\, Tilton\, IL\, 61832\, United States
END:VEVENT
END:VCALENDAR