BEGIN:VCALENDAR
VERSION:2.0
PRODID:-//Cookies Bloomington - ECPv6.15.17.1//NONSGML v1.0//EN
CALSCALE:GREGORIAN
METHOD:PUBLISH
X-ORIGINAL-URL:https://bloomington.cookies.co
X-WR-CALDESC:Events for Cookies Bloomington
REFRESH-INTERVAL;VALUE=DURATION:PT1H
X-Robots-Tag:noindex
X-PUBLISHED-TTL:PT1H
BEGIN:VTIMEZONE
TZID:America/New_York
BEGIN:DAYLIGHT
TZOFFSETFROM:-0500
TZOFFSETTO:-0400
TZNAME:EDT
DTSTART:20240310T070000
END:DAYLIGHT
BEGIN:STANDARD
TZOFFSETFROM:-0400
TZOFFSETTO:-0500
TZNAME:EST
DTSTART:20241103T060000
END:STANDARD
BEGIN:DAYLIGHT
TZOFFSETFROM:-0500
TZOFFSETTO:-0400
TZNAME:EDT
DTSTART:20250309T070000
END:DAYLIGHT
BEGIN:STANDARD
TZOFFSETFROM:-0400
TZOFFSETTO:-0500
TZNAME:EST
DTSTART:20251102T060000
END:STANDARD
BEGIN:DAYLIGHT
TZOFFSETFROM:-0500
TZOFFSETTO:-0400
TZNAME:EDT
DTSTART:20260308T070000
END:DAYLIGHT
BEGIN:STANDARD
TZOFFSETFROM:-0400
TZOFFSETTO:-0500
TZNAME:EST
DTSTART:20261101T060000
END:STANDARD
END:VTIMEZONE
BEGIN:VEVENT
DTSTART;TZID=America/New_York:20251025T160000
DTEND;TZID=America/New_York:20251025T200000
DTSTAMP:20260419T144525
CREATED:20250815T005636Z
LAST-MODIFIED:20250815T005636Z
UID:513935-1761408000-1761422400@bloomington.cookies.co
SUMMARY:🎃 Spooktacular Dank or Treat at Cookies Pontoon Beach - Buds\, Blunts & Boo! 👻
DESCRIPTION:🎃 DANK or TREAT – Buds\, Blunts & Boo! 👻Join us at Cookies Pontoon Beach Cannabis Dispensary on Saturday\, October 25\, 2025\, from 4 PM – 8 PM at 5111 IL-111\, Pontoon Beach\, IL 62040 for an unforgettable Halloween celebration that’s part trunk-or-treat\, part cannabis community party\, and all good vibes. \nGet ready to roll up\, dress up\, light up\, and get spooky at this spooktacular event where candy meets cannabis. Our haunted parking lot will be transformed into a festive playground for all ages (candy) and our 21+ grown-up ghouls inside (exclusive cannabis deals). \n✨ Event Highlights: \n\n🚗 Trunk-or-Treat: Decorated trunks overflowing with candy & sweet surprises\n💨 Exclusive Cannabis Specials: Killer dispensary deals for 21+ guests\n🎶 Live Music & Vibes: Keep the spooky energy alive all evening\n📸 Photo Opportunities: Perfect for showing off your costume\n🥳 Costume Encouragement: Go creepy\, funny\, or downright wild\n🍬 Snacks & Treats: Perfect for when the munchies strike\n\nWhether you’re here for the Halloween fun\, the unbeatable cannabis discounts\, or just a chance to hang with the Cookies crew\, Dank or Treat is the place to be this October. Bring your friends\, bring your costume\, and prepare for a night of community\, creativity\, and cannabis culture. \n📞 Call us: (618) 477-7428🌐 Learn more: www.cookiespontoonbeach.com
URL:https://bloomington.cookies.co/event/ptb-dank-or-treat/
LOCATION:Cookies Pontoon Beach\, 5111 IL-111\, Pontoon Beach\, IL\, 62040\, United States
CATEGORIES:Events
ORGANIZER;CN="Cookies Pontoon Beach":MAILTO:info@cookiespontoonbeach.com
END:VEVENT
END:VCALENDAR